BEGIN:VCALENDAR
VERSION:2.0
PRODID:-//Sabre//Sabre VObject 4.5.8//EN
CALSCALE:GREGORIAN
BEGIN:VEVENT
UID:sabre-vobject-552a6c7c-2f8a-43ce-a6cb-e9fbe8184956
DTSTAMP:20260422T124148Z
SUMMARY:Scharfes Rock Latino "Die Habaneros"
DESCRIPTION:https://regioningolstadt.com/scharfes-rock-latino-die-habaneros
 _id33826
DTSTART;TZID=Europe/Berlin:20240706T155000
DTEND;TZID=Europe/Berlin:20240706T170000
LOCATION:Donaustrasse\, Donaustrasse -\, 85049 Ingolstadt
END:VEVENT
END:VCALENDAR
