BEGIN:VCALENDAR
VERSION:2.0
PRODID:-//Sabre//Sabre VObject 4.5.8//EN
CALSCALE:GREGORIAN
BEGIN:VEVENT
UID:sabre-vobject-a4896a91-a611-4729-9a4e-bccbea986389
DTSTAMP:20260422T144218Z
SUMMARY:Kinder im Museum: Es weihnachtet sehr ...
DESCRIPTION:https://regioningolstadt.com/kinder-im-museum-es-weihnachtet-se
 hr_id33819
DTSTART;TZID=Europe/Berlin:20241214T140000
DTEND;TZID=Europe/Berlin:20241214T160000
LOCATION:Stadtmuseum im Kavalier Hepp\, Auf der Schanz 45\, 85049 Ingolstad
 t
END:VEVENT
END:VCALENDAR
