BEGIN:VCALENDAR
VERSION:2.0
PRODID:-//Sabre//Sabre VObject 4.5.8//EN
CALSCALE:GREGORIAN
BEGIN:VEVENT
UID:sabre-vobject-9a915a52-2e63-45df-bc4a-7868c894441c
DTSTAMP:20260421T141122Z
SUMMARY:Informationsveranstaltung für Gründer
DESCRIPTION:https://regioningolstadt.com/informationsveranstaltung-fuer-gru
 ender_id33807
DTSTART;TZID=Europe/Berlin:20240709T130000
DTEND;TZID=Europe/Berlin:20240709T150000
LOCATION:Online-Veranstaltung\, \,  
END:VEVENT
END:VCALENDAR
