BEGIN:VCALENDAR
VERSION:2.0
PRODID:-//Sabre//Sabre VObject 4.5.8//EN
CALSCALE:GREGORIAN
BEGIN:VEVENT
UID:sabre-vobject-b3af19eb-5820-44b5-83b9-d0421842ac3b
DTSTAMP:20260423T211541Z
SUMMARY:Informationsveranstaltung für Gründer
DESCRIPTION:https://regioningolstadt.com/informationsveranstaltung-fuer-gru
 ender_id33806
DTSTART;TZID=Europe/Berlin:20240702T170000
DTEND;TZID=Europe/Berlin:20240702T190000
LOCATION:Online-Veranstaltung\, \,  
END:VEVENT
END:VCALENDAR
