BEGIN:VCALENDAR
VERSION:2.0
PRODID:-//Sabre//Sabre VObject 4.5.8//EN
CALSCALE:GREGORIAN
BEGIN:VEVENT
UID:sabre-vobject-fe1d05ef-e54b-497f-86f2-086e0b768d10
DTSTAMP:20260423T115435Z
SUMMARY:CSRD in der Praxis: Ihr Weg zur Nachhaltigkeitsberichterstattung (Z
 weitägiger Workshop)
DESCRIPTION:https://regioningolstadt.com/csrd-in-der-praxis-ihr-weg-zur-nac
 hhaltigkeitsberichterstattung-zweitaegiger-workshop_id33796
DTSTART;TZID=Europe/Berlin:20240723T100000
DTEND;TZID=Europe/Berlin:20240724T160000
LOCATION:IHK für München und Oberbayern (München)\, Max-Joseph-Straße 2
 \, 80333 München
END:VEVENT
END:VCALENDAR
