BEGIN:VCALENDAR
VERSION:2.0
PRODID:-//Sabre//Sabre VObject 4.5.8//EN
CALSCALE:GREGORIAN
BEGIN:VEVENT
UID:sabre-vobject-cb12c370-a02a-46f3-bda5-b2aab1674e17
DTSTAMP:20260424T025818Z
SUMMARY:Handwerk ohne Wissensmanagement- wie lange halten Sie durch?
DESCRIPTION:https://regioningolstadt.com/handwerk-ohne-wissensmanagement-wi
 e-lange-halten-sie-durch_id33793
DTSTART;TZID=Europe/Berlin:20240702T100000
DTEND;TZID=Europe/Berlin:20240702T110000
LOCATION:Online-Veranstaltung\, \,  
END:VEVENT
END:VCALENDAR
