BEGIN:VCALENDAR
VERSION:2.0
PRODID:-//Sabre//Sabre VObject 4.5.8//EN
CALSCALE:GREGORIAN
BEGIN:VEVENT
UID:sabre-vobject-ebce5c64-52f1-47f8-ad72-5e2b14031845
DTSTAMP:20260426T022549Z
SUMMARY:Cyber Security Hygiene – mit einfachen Maßnahmen Sicherheit stei
 gern
DESCRIPTION:https://regioningolstadt.com/cyber-security-hygiene-mit-einfach
 en-massnahmen-sicherheit-steigern_id33761
DTSTART;TZID=Europe/Berlin:20240731T140000
DTEND;TZID=Europe/Berlin:20240731T150000
LOCATION:Online-Veranstaltung\, \,  
END:VEVENT
END:VCALENDAR
