BEGIN:VCALENDAR
VERSION:2.0
PRODID:-//Sabre//Sabre VObject 4.5.8//EN
CALSCALE:GREGORIAN
BEGIN:VEVENT
UID:sabre-vobject-f8f84049-5b3c-428d-a23e-6ec65f9c86f1
DTSTAMP:20260424T012231Z
SUMMARY:Phishing vs. Ransomware: Phishing-Trends und Schutzmaßnahmen
DESCRIPTION:https://regioningolstadt.com/phishing-vs-ransomware-phishing-tr
 ends-und-schutzmassnahmen_id33760
DTSTART;TZID=Europe/Berlin:20240724T140000
DTEND;TZID=Europe/Berlin:20240724T150000
LOCATION:Online-Veranstaltung\, \,  
END:VEVENT
END:VCALENDAR
