BEGIN:VCALENDAR
VERSION:2.0
PRODID:-//Sabre//Sabre VObject 4.5.8//EN
CALSCALE:GREGORIAN
BEGIN:VEVENT
UID:sabre-vobject-007ee596-6754-4ad1-992b-4b04d6d1d6df
DTSTAMP:20260419T133537Z
SUMMARY:Webimpuls: Passwortsicherheit – Accounts und Daten effektiv schü
 tzen
DESCRIPTION:https://regioningolstadt.com/webimpuls-passwortsicherheit-accou
 nts-und-daten-effektiv-schuetzen_id33759
DTSTART;TZID=Europe/Berlin:20240717T140000
DTEND;TZID=Europe/Berlin:20240717T150000
LOCATION:Online-Veranstaltung\, \,  
END:VEVENT
END:VCALENDAR
