BEGIN:VCALENDAR
VERSION:2.0
PRODID:-//Sabre//Sabre VObject 4.5.8//EN
CALSCALE:GREGORIAN
BEGIN:VEVENT
UID:sabre-vobject-7b2cad0b-a70b-4ad7-baf9-0cc524b0248b
DTSTAMP:20260425T011051Z
SUMMARY:Workshop: Nägel\, Platten\, Schrauben. Ein DIY-Workshop zur Osteos
 ynthese
DESCRIPTION:https://regioningolstadt.com/workshop-naegel-platten-schrauben-
 ein-diy-workshop-zur-osteosynthese_id33752
DTSTART;TZID=Europe/Berlin:20240727T150000
DTEND;TZID=Europe/Berlin:20240727T170000
LOCATION:Deutsches Medizinhistorisches Museum\, Anatomiestraße 18 – 20\,
  85049 Ingolstadt
END:VEVENT
END:VCALENDAR
