BEGIN:VCALENDAR
VERSION:2.0
PRODID:-//Sabre//Sabre VObject 4.5.8//EN
CALSCALE:GREGORIAN
BEGIN:VEVENT
UID:sabre-vobject-79c93665-8980-4223-aacd-3a2ed4237a2e
DTSTAMP:20260424T220218Z
SUMMARY:Gartenführung: Was blüht denn da?
DESCRIPTION:https://regioningolstadt.com/gartenfuehrung-was-blueht-denn-da_
 id33751
DTSTART;TZID=Europe/Berlin:20240727T140000
DTEND;TZID=Europe/Berlin:20240727T150000
LOCATION:Deutsches Medizinhistorisches Museum\, Anatomiestraße 18 – 20\,
  85049 Ingolstadt
END:VEVENT
END:VCALENDAR
