BEGIN:VCALENDAR
VERSION:2.0
PRODID:-//Sabre//Sabre VObject 4.5.8//EN
CALSCALE:GREGORIAN
BEGIN:VEVENT
UID:sabre-vobject-cdb8d346-d264-4d29-a616-9654575d6ff2
DTSTAMP:20260423T085320Z
SUMMARY:Workshop: Coeur de Lavande - Lavendelherzen
DESCRIPTION:https://regioningolstadt.com/workshop-coeur-de-lavande-lavendel
 herzen_id33750
DTSTART;TZID=Europe/Berlin:20240721T150000
DTEND;TZID=Europe/Berlin:20240721T163000
LOCATION:Deutsches Medizinhistorisches Museum\, Anatomiestraße 18 – 20\,
  85049 Ingolstadt
END:VEVENT
END:VCALENDAR
