BEGIN:VCALENDAR
VERSION:2.0
PRODID:-//Sabre//Sabre VObject 4.5.8//EN
CALSCALE:GREGORIAN
BEGIN:VEVENT
UID:sabre-vobject-5d8e87df-a0b2-4143-af2b-7968b719b0e9
DTSTAMP:20260422T144218Z
SUMMARY:Inklusive Gartenführung für Gehörlose: Zauberpflanzen - Dichtung
  und Wahrheit
DESCRIPTION:https://regioningolstadt.com/inklusive-gartenfuehrung-fuer-geho
 erlose-zauberpflanzen-dichtung-und-wahrheit_id33749
DTSTART;TZID=Europe/Berlin:20240720T134500
DTEND;TZID=Europe/Berlin:20240720T144500
LOCATION:Deutsches Medizinhistorisches Museum\, Anatomiestraße 18 – 20\,
  85049 Ingolstadt
END:VEVENT
END:VCALENDAR
