BEGIN:VCALENDAR
VERSION:2.0
PRODID:-//Sabre//Sabre VObject 4.5.8//EN
CALSCALE:GREGORIAN
BEGIN:VEVENT
UID:sabre-vobject-4b24f9d0-085c-497b-8551-feb3e5c11984
DTSTAMP:20260423T071000Z
SUMMARY:IMPULSTAG für die Kultur- und Kreativwirtschaft in Ingolstadt
DESCRIPTION:https://regioningolstadt.com/impulstag-fuer-die-kultur-und-krea
 tivwirtschaft-in-ingolstadt_id33744
DTSTART;TZID=Europe/Berlin:20240705T143000
DTEND;TZID=Europe/Berlin:20240705T193000
LOCATION:Digitales Gründerzentrum brigk\, Schloßlände 26\, 85049 Ingolst
 adt
END:VEVENT
END:VCALENDAR
