BEGIN:VCALENDAR
VERSION:2.0
PRODID:-//Sabre//Sabre VObject 4.5.8//EN
CALSCALE:GREGORIAN
BEGIN:VEVENT
UID:sabre-vobject-37d6c3ae-b571-4b3b-9844-83974ba1a285
DTSTAMP:20260423T131937Z
SUMMARY:transform.by Sozialpartner Veranstaltung: „Zukunftswerkstatt Tran
 sformation – sozial\, ökologisch und wirtschaftlich gestalten“
DESCRIPTION:https://regioningolstadt.com/transform-by-sozialpartner-veranst
 altung-zukunftswerkstatt-transformation-sozial-oekologisch-und-wirtschaftl
 ich-gestalten_id33729
DTSTART;TZID=Europe/Berlin:20240723T100000
DTEND;TZID=Europe/Berlin:20240723T160000
LOCATION:Audi Konferenz Center Ingolstadt\, Ettinger Straße \, 85045 Ingol
 stadt
END:VEVENT
END:VCALENDAR
