BEGIN:VCALENDAR
VERSION:2.0
PRODID:-//Sabre//Sabre VObject 4.5.8//EN
CALSCALE:GREGORIAN
BEGIN:VEVENT
UID:sabre-vobject-c4156c0c-0f6e-4d4a-b547-eb5132a006b1
DTSTAMP:20260424T012317Z
SUMMARY:Künstliche Intelligenz trifft HR
DESCRIPTION:https://regioningolstadt.com/kuenstliche-intelligenz-trifft-hr_
 id33727
DTSTART;TZID=Europe/Berlin:20240702T100000
DTEND;TZID=Europe/Berlin:20240702T104500
LOCATION:Online-Veranstaltung\, \,  
END:VEVENT
END:VCALENDAR
