BEGIN:VCALENDAR
VERSION:2.0
PRODID:-//Sabre//Sabre VObject 4.5.8//EN
CALSCALE:GREGORIAN
BEGIN:VEVENT
UID:sabre-vobject-acee9464-5265-495d-97c8-4c57e59a8208
DTSTAMP:20260423T084020Z
SUMMARY:Webinar am Freitag Nachhaltiges Wirtschaften durch neue Wertschöpf
 ungsketten und die Nutzung von Reststoffen
DESCRIPTION:https://regioningolstadt.com/webinar-am-freitag-nachhaltiges-wi
 rtschaften-durch-neue-wertschoepfungsketten-und-die-nutzung-von-reststoffe
 n_id33710
DTSTART;TZID=Europe/Berlin:20240705T083000
DTEND;TZID=Europe/Berlin:20240705T093000
LOCATION:Online-Veranstaltung\, \,  
END:VEVENT
END:VCALENDAR
