BEGIN:VCALENDAR
VERSION:2.0
PRODID:-//Sabre//Sabre VObject 4.5.8//EN
CALSCALE:GREGORIAN
BEGIN:VEVENT
UID:sabre-vobject-0997e488-f818-4d82-9b4b-a8561ed10833
DTSTAMP:20260425T201418Z
SUMMARY:Reihe: "Mittagsvisite": Platte "Manager-Gymnastik"
DESCRIPTION:https://regioningolstadt.com/reihe-mittagsvisite-platte-manager
 -gymnastik_id33699
DTSTART;TZID=Europe/Berlin:20240730T123000
DTEND;TZID=Europe/Berlin:20240730T130000
LOCATION:Deutsches Medizinhistorisches Museum\, Anatomiestraße 18 – 20\,
  85049 Ingolstadt
END:VEVENT
END:VCALENDAR
