BEGIN:VCALENDAR
VERSION:2.0
PRODID:-//Sabre//Sabre VObject 4.5.8//EN
CALSCALE:GREGORIAN
BEGIN:VEVENT
UID:sabre-vobject-5fa95ba9-0b3d-433c-be2d-c90bcb50205a
DTSTAMP:20260423T150512Z
SUMMARY:Reihe: "Mittagsvisite": Mundsperrer nach Heister
DESCRIPTION:https://regioningolstadt.com/reihe-mittagsvisite-mundsperrer-na
 ch-heister_id33698
DTSTART;TZID=Europe/Berlin:20240723T123000
DTEND;TZID=Europe/Berlin:20240723T130000
LOCATION:Deutsches Medizinhistorisches Museum\, Anatomiestraße 18 – 20\,
  85049 Ingolstadt
END:VEVENT
END:VCALENDAR
