BEGIN:VCALENDAR
VERSION:2.0
PRODID:-//Sabre//Sabre VObject 4.5.8//EN
CALSCALE:GREGORIAN
BEGIN:VEVENT
UID:sabre-vobject-c7fabb92-1068-40b8-af58-81cd0bcaf7de
DTSTAMP:20260421T153817Z
SUMMARY:Reihe: "Mittagsvisite": Zielgerät für Marknagelung
DESCRIPTION:https://regioningolstadt.com/reihe-mittagsvisite-zielgeraet-fue
 r-marknagelung_id33695
DTSTART;TZID=Europe/Berlin:20240709T123000
DTEND;TZID=Europe/Berlin:20240709T130000
LOCATION:Deutsches Medizinhistorisches Museum\, Anatomiestraße 18 – 20\,
  85049 Ingolstadt
END:VEVENT
END:VCALENDAR
