BEGIN:VCALENDAR
VERSION:2.0
PRODID:-//Sabre//Sabre VObject 4.5.8//EN
CALSCALE:GREGORIAN
BEGIN:VEVENT
UID:sabre-vobject-c44b9bc5-fd44-4bf3-8c99-ecbb96462ba6
DTSTAMP:20260422T033534Z
SUMMARY:Kombi-Führung: Skiunfälle und Medizin
DESCRIPTION:https://regioningolstadt.com/kombi-fuehrung-skiunfaelle-und-med
 izin_id33694
DTSTART;TZID=Europe/Berlin:20240707T150000
DTEND;TZID=Europe/Berlin:20240707T160000
LOCATION:Deutsches Medizinhistorisches Museum\, Anatomiestraße 18 – 20\,
  85049 Ingolstadt
END:VEVENT
END:VCALENDAR
