BEGIN:VCALENDAR
VERSION:2.0
PRODID:-//Sabre//Sabre VObject 4.5.8//EN
CALSCALE:GREGORIAN
BEGIN:VEVENT
UID:sabre-vobject-0deb15b5-e200-443f-846a-e4162591036c
DTSTAMP:20260423T130321Z
SUMMARY:Transform.10: Die Transformations-Hubs der Automobil- & Zuliefereri
 ndustrie - Transfer-X – Transformations-Hub für digitale Ökosysteme
DESCRIPTION:https://regioningolstadt.com/transform-10-die-transformations-h
 ubs-der-automobil-zuliefererindustrie-transfer-x-transformations-hub-fuer-
 digitale-oekosysteme_id33692
DTSTART;TZID=Europe/Berlin:20240704T160000
DTEND;TZID=Europe/Berlin:20240704T170000
LOCATION:Online-Veranstaltung\, \,  
END:VEVENT
END:VCALENDAR
