BEGIN:VCALENDAR
VERSION:2.0
PRODID:-//Sabre//Sabre VObject 4.5.8//EN
CALSCALE:GREGORIAN
BEGIN:VEVENT
UID:sabre-vobject-44e57d31-ee60-48f6-b827-f13f5b209dbc
DTSTAMP:20260423T235146Z
SUMMARY:Reihe Mittagsvisite: Ölgemälde Hl. Erasmus
DESCRIPTION:https://regioningolstadt.com/reihe-mittagsvisite-oelgemaelde-hl
 -erasmus_id33684
DTSTART;TZID=Europe/Berlin:20240702T123000
DTEND;TZID=Europe/Berlin:20240702T130000
LOCATION:Deutsches Medizinhistorisches Museum\, Anatomiestraße 18 – 20\,
  85049 Ingolstadt
END:VEVENT
END:VCALENDAR
