BEGIN:VCALENDAR
VERSION:2.0
PRODID:-//Sabre//Sabre VObject 4.5.8//EN
CALSCALE:GREGORIAN
BEGIN:VEVENT
UID:sabre-vobject-bf2d508b-c3ee-469a-97a3-787ebbdf4386
DTSTAMP:20260425T201445Z
SUMMARY:Reihe Mittagsvisite: Gartenvisite Was blüht denn da?"
DESCRIPTION:https://regioningolstadt.com/reihe-mittagsvisite-gartenvisite-w
 as-blueht-denn-da_id33678
DTSTART;TZID=Europe/Berlin:20240618T123000
DTEND;TZID=Europe/Berlin:20240618T130000
LOCATION:Deutsches Medizinhistorisches Museum\, Anatomiestraße 18 – 20\,
  85049 Ingolstadt
END:VEVENT
END:VCALENDAR
