BEGIN:VCALENDAR
VERSION:2.0
PRODID:-//Sabre//Sabre VObject 4.5.8//EN
CALSCALE:GREGORIAN
BEGIN:VEVENT
UID:sabre-vobject-1d84271d-4821-4c07-bff6-74e0d04be9fc
DTSTAMP:20260425T122554Z
SUMMARY:Führung: Victor Frankenstein und die Anatomie
DESCRIPTION:https://regioningolstadt.com/fuehrung-victor-frankenstein-und-d
 ie-anatomie_id33677
DTSTART;TZID=Europe/Berlin:20240616T150000
DTEND;TZID=Europe/Berlin:20240616T160000
LOCATION:Deutsches Medizinhistorisches Museum\, Anatomiestraße 18 – 20\,
  85049 Ingolstadt
END:VEVENT
END:VCALENDAR
