BEGIN:VCALENDAR
VERSION:2.0
PRODID:-//Sabre//Sabre VObject 4.5.8//EN
CALSCALE:GREGORIAN
BEGIN:VEVENT
UID:sabre-vobject-224c36f1-ab31-4a00-ae22-9d52a1e00146
DTSTAMP:20260424T094458Z
SUMMARY:After-Work-Führung: Szenographie
DESCRIPTION:https://regioningolstadt.com/after-work-fuehrung-szenographie_i
 d33676
DTSTART;TZID=Europe/Berlin:20240614T170000
DTEND;TZID=Europe/Berlin:20240614T183000
LOCATION:Deutsches Medizinhistorisches Museum\, Anatomiestraße 18 – 20\,
  85049 Ingolstadt
END:VEVENT
END:VCALENDAR
