BEGIN:VCALENDAR
VERSION:2.0
PRODID:-//Sabre//Sabre VObject 4.5.8//EN
CALSCALE:GREGORIAN
BEGIN:VEVENT
UID:sabre-vobject-6101c7d1-16f2-4bc1-8542-4365095a1944
DTSTAMP:20260425T042736Z
SUMMARY:Stuntmeet der Ingolstädter "Wolf Rida"
DESCRIPTION:https://regioningolstadt.com/stuntmeet-der-ingolstaedter-wolf-r
 ida_id33670
DTSTART;TZID=Europe/Berlin:20240616T100000
DTEND;TZID=Europe/Berlin:20240616T180000
LOCATION:Parkfläche am Ingolstadt Village\, Otto Hahn Strasse 1\, 85055 In
 golstadt
END:VEVENT
END:VCALENDAR
