BEGIN:VCALENDAR
VERSION:2.0
PRODID:-//Sabre//Sabre VObject 4.5.8//EN
CALSCALE:GREGORIAN
BEGIN:VEVENT
UID:sabre-vobject-88b86dec-0019-4bde-aef2-201642777120
DTSTAMP:20260424T172545Z
SUMMARY:Workshop Persönlichkeitsentwicklung "Inspiration und Klarheit: Fin
 de und verwirkliche Deine Ziele"
DESCRIPTION:https://regioningolstadt.com/workshop-persoenlichkeitsentwicklu
 ng-inspiration-und-klarheit-finde-und-verwirkliche-deine-ziele_id33638
DTSTART;TZID=Europe/Berlin:20240615T111500
DTEND;TZID=Europe/Berlin:20240615T131500
LOCATION:Try2Fly Ingolstadt\, Schäffbräustraße 9\, 85049 Ingolstadt
END:VEVENT
END:VCALENDAR
