BEGIN:VCALENDAR
VERSION:2.0
PRODID:-//Sabre//Sabre VObject 4.5.8//EN
CALSCALE:GREGORIAN
BEGIN:VEVENT
UID:sabre-vobject-f09e6279-c90a-407b-8d2a-0c456b97171f
DTSTAMP:20260421T112456Z
SUMMARY:transform.10 x AfterWork - „Cyber Security - Phishing“
DESCRIPTION:https://regioningolstadt.com/transform-10-x-afterwork-cyber-sec
 urity-phishing_id33634
DTSTART;TZID=Europe/Berlin:20240709T180000
DTEND;TZID=Europe/Berlin:20240709T200000
LOCATION:Studio für Neues\, Am Bachl 21\, 85049 Ingolstadt
END:VEVENT
END:VCALENDAR
