BEGIN:VCALENDAR
VERSION:2.0
PRODID:-//Sabre//Sabre VObject 4.5.8//EN
CALSCALE:GREGORIAN
BEGIN:VEVENT
UID:sabre-vobject-ba9ada9f-2640-4d3a-aac2-d938b6018cac
DTSTAMP:20260424T055824Z
SUMMARY:Die ersten internationalen Bilder der extrem seltenen Purpurreiher
DESCRIPTION:https://regioningolstadt.com/die-ersten-internationalen-bilder-
 der-extrem-seltenen-purpurreiher_id33612
DTSTART;TZID=Europe/Berlin:20240701T200000
DTEND;TZID=Europe/Berlin:20240701T210000
LOCATION:Altes Rathaus\, Rathausplatz 2\, 85049 Ingolstadt
END:VEVENT
END:VCALENDAR
