BEGIN:VCALENDAR
VERSION:2.0
PRODID:-//Sabre//Sabre VObject 4.5.8//EN
CALSCALE:GREGORIAN
BEGIN:VEVENT
UID:sabre-vobject-a983dc7c-5227-4d7e-8ff2-7141896aa1b9
DTSTAMP:20260423T220401Z
SUMMARY:Sommerfest
DESCRIPTION:https://regioningolstadt.com/sommerfest_id33608
DTSTART;TZID=Europe/Berlin:20240613T180000
DTEND;TZID=Europe/Berlin:20240613T220000
LOCATION:Biergarten Schutterhof\, Friedhofstraße 1 a\, 85049 Ingolstadt
END:VEVENT
END:VCALENDAR
