BEGIN:VCALENDAR
VERSION:2.0
PRODID:-//Sabre//Sabre VObject 4.5.8//EN
CALSCALE:GREGORIAN
BEGIN:VEVENT
UID:sabre-vobject-6b540322-1ba3-4371-861f-4f54dd0243b9
DTSTAMP:20260424T042615Z
SUMMARY:3. Bayerisches Großhandelsforum "Erfolgsmodelle für die Zukunft d
 es Großhandels"
DESCRIPTION:https://regioningolstadt.com/3-bayerisches-grosshandelsforum-er
 folgsmodelle-fuer-die-zukunft-des-grosshandels_id33580
DTSTART;TZID=Europe/Berlin:20240702T100000
DTEND;TZID=Europe/Berlin:20240702T160000
LOCATION:IHK für München und Oberbayern (München)\, Max-Joseph-Straße 2
 \, 80333 München
END:VEVENT
END:VCALENDAR
