BEGIN:VCALENDAR
VERSION:2.0
PRODID:-//Sabre//Sabre VObject 4.5.8//EN
CALSCALE:GREGORIAN
BEGIN:VEVENT
UID:sabre-vobject-3721c308-2105-4fc6-8dcd-4e984e11ba4d
DTSTAMP:20260423T094524Z
SUMMARY:Intralogistik 4.0 – Welche Technologien bilden die Intralogistik 
 der Zukunft?​
DESCRIPTION:https://regioningolstadt.com/intralogistik-4-0-welche-technolog
 ien-bilden-die-intralogistik-der-zukunft_id33573
DTSTART;TZID=Europe/Berlin:20240613T090000
DTEND;TZID=Europe/Berlin:20240613T103000
LOCATION:Online-Veranstaltung\, \,  
END:VEVENT
END:VCALENDAR
