BEGIN:VCALENDAR
VERSION:2.0
PRODID:-//Sabre//Sabre VObject 4.5.8//EN
CALSCALE:GREGORIAN
BEGIN:VEVENT
UID:sabre-vobject-4ac3f997-520c-4a38-9ef2-a99037f4ebda
DTSTAMP:20260422T154952Z
SUMMARY:Lernen am und für den Produktionsarbeitsplatz –​ Methoden\, Fo
 rmate und Technologien​
DESCRIPTION:https://regioningolstadt.com/lernen-am-und-fuer-den-produktions
 arbeitsplatz-methoden-formate-und-technologien_id33572
DTSTART;TZID=Europe/Berlin:20240612T140000
DTEND;TZID=Europe/Berlin:20240612T153000
LOCATION:Online-Veranstaltung\, \,  
END:VEVENT
END:VCALENDAR
