BEGIN:VCALENDAR
VERSION:2.0
PRODID:-//Sabre//Sabre VObject 4.5.8//EN
CALSCALE:GREGORIAN
BEGIN:VEVENT
UID:sabre-vobject-621fa74b-2dbb-4021-afac-c9f5e5e91838
DTSTAMP:20260419T213848Z
SUMMARY:Kinofilm Schulen dieser Welt mit anschließender Gesprächsrunde
DESCRIPTION:https://regioningolstadt.com/kinofilm-schulen-dieser-welt-mit-a
 nschliessender-gespraechsrunde_id33570
DTSTART;TZID=Europe/Berlin:20240718T180000
DTEND;TZID=Europe/Berlin:20240718T210000
LOCATION:Volkshochschule Ingolstadt - Kinosaal\, Hallstraße 5\, 85949 Ingo
 lstadt
END:VEVENT
END:VCALENDAR
