BEGIN:VCALENDAR
VERSION:2.0
PRODID:-//Sabre//Sabre VObject 4.5.8//EN
CALSCALE:GREGORIAN
BEGIN:VEVENT
UID:sabre-vobject-7de415a2-5620-47cd-8147-5f74548bc920
DTSTAMP:20260426T033533Z
SUMMARY:Radtour zum Limesmuseum Ruffenhofen
DESCRIPTION:https://regioningolstadt.com/radtour-zum-limesmuseum-ruffenhofe
 n_id33566
DTSTART;TZID=Europe/Berlin:20240619T085000
DTEND;TZID=Europe/Berlin:20240619T190000
LOCATION:Hauptbahnhof Ingolstadt\, Bahnhofstraße 8\, 85051 Ingolstadt
END:VEVENT
END:VCALENDAR
