BEGIN:VCALENDAR
VERSION:2.0
PRODID:-//Sabre//Sabre VObject 4.5.8//EN
CALSCALE:GREGORIAN
BEGIN:VEVENT
UID:sabre-vobject-a4b0f0a2-14d4-4db3-984a-d014403bc288
DTSTAMP:20260425T011005Z
SUMMARY:Singles aufgepasst! Swipe left\, walk right: Im Wald wird gedatet\,
  nicht gescrollt!
DESCRIPTION:https://regioningolstadt.com/singles-aufgepasst-swipe-left-walk
 -right-im-wald-wird-gedatet-nicht-gescrollt_id33565
DTSTART;TZID=Europe/Berlin:20240616T060000
DTEND;TZID=Europe/Berlin:20240616T083000
LOCATION:Schafirrsee\, Eichenwaldstr. 73\, 85049 Ingolstadt-Gerolfing
END:VEVENT
END:VCALENDAR
