BEGIN:VCALENDAR
VERSION:2.0
PRODID:-//Sabre//Sabre VObject 4.5.8//EN
CALSCALE:GREGORIAN
BEGIN:VEVENT
UID:sabre-vobject-f336e69d-569a-47f2-9e26-389ecb5882c7
DTSTAMP:20260422T201919Z
SUMMARY:Radtour im Brenztal
DESCRIPTION:https://regioningolstadt.com/radtour-im-brenztal_id33564
DTSTART;TZID=Europe/Berlin:20240612T085000
DTEND;TZID=Europe/Berlin:20240612T190000
LOCATION:Hauptbahnhof Ingolstadt\, Bahnhofstraße 8\, 85051 Ingolstadt
END:VEVENT
END:VCALENDAR
