BEGIN:VCALENDAR
VERSION:2.0
PRODID:-//Sabre//Sabre VObject 4.5.8//EN
CALSCALE:GREGORIAN
BEGIN:VEVENT
UID:sabre-vobject-6cfa8c8e-3e69-451e-98a0-841b7281a040
DTSTAMP:20260423T092644Z
SUMMARY:MTB-Tour Tegernsee - Sylvenstein - Lenggries
DESCRIPTION:https://regioningolstadt.com/mtb-tour-tegernsee-sylvenstein-len
 ggries_id33563
DTSTART;TZID=Europe/Berlin:20240611T074000
DTEND;TZID=Europe/Berlin:20240611T193000
LOCATION:Hauptbahnhof Ingolstadt\, Bahnhofstraße 8\, 85051 Ingolstadt
END:VEVENT
END:VCALENDAR
