BEGIN:VCALENDAR
VERSION:2.0
PRODID:-//Sabre//Sabre VObject 4.5.8//EN
CALSCALE:GREGORIAN
BEGIN:VEVENT
UID:sabre-vobject-455ba848-6338-49f5-8876-845937ed8119
DTSTAMP:20260422T185406Z
SUMMARY:Zuhören.draussen.Ingolstadt
DESCRIPTION:https://regioningolstadt.com/zuhoeren-draussen-ingolstadt_id335
 62
DTSTART;TZID=Europe/Berlin:20240612T150000
DTEND;TZID=Europe/Berlin:20240612T170000
LOCATION:VHS Ingolstadt\, Hallstr. 5\, 85049 Ingolstadt
END:VEVENT
END:VCALENDAR
