BEGIN:VCALENDAR
VERSION:2.0
PRODID:-//Sabre//Sabre VObject 4.5.8//EN
CALSCALE:GREGORIAN
BEGIN:VEVENT
UID:sabre-vobject-e828f9aa-c964-4978-9748-63a7118b137c
DTSTAMP:20260424T001627Z
SUMMARY:Öffentlicher Festvortrag: Psychiatrie und Kunst mit Prof. Dr. Moni
 ka Ankele\, Berlin
DESCRIPTION:https://regioningolstadt.com/oeffentlicher-festvortrag-psychiat
 rie-und-kunst-mit-prof-dr-monika-ankele-berlin_id33546
DTSTART;TZID=Europe/Berlin:20240609T110000
DTEND;TZID=Europe/Berlin:20240609T120000
LOCATION:Barocksaal im Stadtmuseum Ingolstadt\, Auf der Schanz 45\, 85049 I
 ngolstadt
END:VEVENT
END:VCALENDAR
