BEGIN:VCALENDAR
VERSION:2.0
PRODID:-//Sabre//Sabre VObject 4.5.8//EN
CALSCALE:GREGORIAN
BEGIN:VEVENT
UID:sabre-vobject-f963a3e3-8cf8-408c-bd6c-4d36bf5eb172
DTSTAMP:20260424T072646Z
SUMMARY:Gartenführung: Berauschend schön. Pflanzen mit halluzinogener Wir
 kung
DESCRIPTION:https://regioningolstadt.com/gartenfuehrung-berauschend-schoen-
 pflanzen-mit-halluzinogener-wirkung_id33545
DTSTART;TZID=Europe/Berlin:20240608T103000
DTEND;TZID=Europe/Berlin:20240608T113000
LOCATION:Deutsches Medizinhistorisches Museum\, Anatomiestraße 18 – 20\,
  85049 Ingolstadt
END:VEVENT
END:VCALENDAR
