BEGIN:VCALENDAR
VERSION:2.0
PRODID:-//Sabre//Sabre VObject 4.5.8//EN
CALSCALE:GREGORIAN
BEGIN:VEVENT
UID:sabre-vobject-721ace6d-a381-485b-b470-da71c2574a17
DTSTAMP:20260424T202430Z
SUMMARY:Das digitale Stadtgeschichtslexikon der Stadt Ingolstadt
DESCRIPTION:https://regioningolstadt.com/das-digitale-stadtgeschichtslexiko
 n-der-stadt-ingolstadt_id33543
DTSTART;TZID=Europe/Berlin:20240607T163000
DTEND;TZID=Europe/Berlin:20240607T170000
LOCATION:Online auf Zoom\, \,  
END:VEVENT
END:VCALENDAR
