BEGIN:VCALENDAR
VERSION:2.0
PRODID:-//Sabre//Sabre VObject 4.5.8//EN
CALSCALE:GREGORIAN
BEGIN:VEVENT
UID:sabre-vobject-9f37171d-efbb-4159-9a24-65927011fafa
DTSTAMP:20260425T024159Z
SUMMARY:Führung durch das Digitalisierungszentrum
DESCRIPTION:https://regioningolstadt.com/fuehrung-durch-das-digitalisierung
 szentrum_id33542
DTSTART;TZID=Europe/Berlin:20240607T153000
DTEND;TZID=Europe/Berlin:20240607T161500
LOCATION:Archiv des Stadtmuseums\, Auf der Schanze 45\, 85049 Ingolstadt
END:VEVENT
END:VCALENDAR
