BEGIN:VCALENDAR
VERSION:2.0
PRODID:-//Sabre//Sabre VObject 4.5.8//EN
CALSCALE:GREGORIAN
BEGIN:VEVENT
UID:sabre-vobject-9bc87897-bc40-48ac-8391-0d0eb664ba38
DTSTAMP:20260421T124635Z
SUMMARY:Führung: Hals- und Beinbruch! Fit für die Piste mit Ski-Gymnastik
DESCRIPTION:https://regioningolstadt.com/fuehrung-hals-und-beinbruch-fit-fu
 er-die-piste-mit-ski-gymnastik_id33538
DTSTART;TZID=Europe/Berlin:20240602T150000
DTEND;TZID=Europe/Berlin:20240602T160000
LOCATION:Deutsches Medizinhistorisches Museum\, Anatomiestraße 18 – 20\,
  85049 Ingolstadt
END:VEVENT
END:VCALENDAR
