BEGIN:VCALENDAR
VERSION:2.0
PRODID:-//Sabre//Sabre VObject 4.5.8//EN
CALSCALE:GREGORIAN
BEGIN:VEVENT
UID:sabre-vobject-59520b60-494e-4599-b9c8-a5f19b815ae7
DTSTAMP:20260422T160535Z
SUMMARY:Kostenlose Pfeifturmbegehung beim Bürgerfest Ingolstadt
DESCRIPTION:https://regioningolstadt.com/kostenlose-pfeifturmbegehung-beim-
 buergerfest-ingolstadt_id33532
DTSTART;TZID=Europe/Berlin:20240706T150000
DTEND;TZID=Europe/Berlin:20240706T210000
LOCATION:Pfeifturm\, \,  
END:VEVENT
END:VCALENDAR
