BEGIN:VCALENDAR
VERSION:2.0
PRODID:-//Sabre//Sabre VObject 4.5.8//EN
CALSCALE:GREGORIAN
BEGIN:VEVENT
UID:sabre-vobject-98707f0b-080a-47a0-9ef5-58887f0f4824
DTSTAMP:20260423T024958Z
SUMMARY:Kostenlose Pfeifturmbegehung beim Bürgerfest Ingolstadt
DESCRIPTION:https://regioningolstadt.com/kostenlose-pfeifturmbegehung-beim-
 buergerfest-ingolstadt_id33531
DTSTART;TZID=Europe/Berlin:20240705T180000
DTEND;TZID=Europe/Berlin:20240705T210000
LOCATION:Pfeifturm\, \,  
END:VEVENT
END:VCALENDAR
