BEGIN:VCALENDAR
VERSION:2.0
PRODID:-//Sabre//Sabre VObject 4.5.8//EN
CALSCALE:GREGORIAN
BEGIN:VEVENT
UID:sabre-vobject-630a58e7-8123-4f4f-bd29-ae2f935f5158
DTSTAMP:20260423T225537Z
SUMMARY:Kostenlose Pfeifturmbegehung beim Audi Triathlon Ingolstadt
DESCRIPTION:https://regioningolstadt.com/kostenlose-pfeifturmbegehung-beim-
 audi-triathlon-ingolstadt_id33530
DTSTART;TZID=Europe/Berlin:20240609T130000
DTEND;TZID=Europe/Berlin:20240609T160000
LOCATION:Pfeifturm\, \,  
END:VEVENT
END:VCALENDAR
