BEGIN:VCALENDAR
VERSION:2.0
PRODID:-//Sabre//Sabre VObject 4.5.8//EN
CALSCALE:GREGORIAN
BEGIN:VEVENT
UID:sabre-vobject-58a74f1a-912b-42ba-919a-62f43a1deca8
DTSTAMP:20260424T055830Z
SUMMARY:EISGALA powered by BÜCHL - Weltklasse Eiskunstlauf und Livemusik
DESCRIPTION:https://regioningolstadt.com/eisgala-powered-by-buechl-weltklas
 se-eiskunstlauf-und-livemusik_id33525
DTSTART;TZID=Europe/Berlin:20241222T190000
DTEND;TZID=Europe/Berlin:20241222T220000
LOCATION:Saturn-Arena\, Südliche Ringstraße 64\, 85053 Ingolstadt
END:VEVENT
END:VCALENDAR
