BEGIN:VCALENDAR
VERSION:2.0
PRODID:-//Sabre//Sabre VObject 4.5.8//EN
CALSCALE:GREGORIAN
BEGIN:VEVENT
UID:sabre-vobject-58dbb202-95cb-4c51-a02d-62f41f421f70
DTSTAMP:20260421T231158Z
SUMMARY:Protestschriften der Zeugen Jehovas im Nationalsozialismus. Themens
 chwerpunkt der Ausstellung "Verfolgung und Widerstand der Zeugen Jehovas 1
 933 - 1945"
DESCRIPTION:https://regioningolstadt.com/protestschriften-der-zeugen-jehova
 s-im-nationalsozialismus-themenschwerpunkt-der-ausstellung-verfolgung-und-
 widerstand-der-zeugen-jehovas-1933-1945_id33516
DTSTART;TZID=Europe/Berlin:20240707T170000
DTEND;TZID=Europe/Berlin:20241020T170000
LOCATION:Foyer des Zentrums Stadtgeschichte Ingolstadt\, Auf der Schanz 45\
 , 85049 Ingolstadt
END:VEVENT
END:VCALENDAR
